BEGIN:VCALENDAR
VERSION:2.0
PRODID:icalendar-ruby
CALSCALE:GREGORIAN
METHOD:PUBLISH
BEGIN:VEVENT
DTSTAMP:20260422T134649Z
UID:83-390178@fumcsalisbury.org
DTSTART:20260514T210000Z
DTEND:20260514T230000Z
CLASS:PUBLIC
CREATED:20260420T122937
DESCRIPTION:
LAST-MODIFIED:20260420T122937
LOCATION:226 N. Long Street\, Salisbury NC
SUMMARY:Dinner at Rowan Helping Ministries
URL;VALUE=URI:https://www.fumcsalisbury.org/events/dinner-at-rowan-helping-
 ministries/2026-05-14
ATTACH;FILENAME=Help-serve-at-Rowan-Helping-Ministries.png;FMTTYPE=image/pn
 g:https://dq5pwpg1q8ru0.cloudfront.net/2026/04/20/16/29/37/5c5eda74-1200-4
 9d7-a9bc-7d2951e261bf/Help-serve-at-Rowan-Helping-Ministries.png
END:VEVENT
END:VCALENDAR
