BEGIN:VCALENDAR
VERSION:2.0
PRODID:icalendar-ruby
CALSCALE:GREGORIAN
METHOD:PUBLISH
BEGIN:VEVENT
DTSTAMP:20260421T134614Z
UID:82-390177@fumcsalisbury.org
DTSTART:20260514T120000Z
DTEND:20260514T140000Z
CLASS:PUBLIC
CREATED:20260420T122714
DESCRIPTION:
LAST-MODIFIED:20260420T122714
LOCATION:Hendrix BBQ 1624 W Innes St Salisbury\, NC 28144
SUMMARY:Men's Prayer Breakfast
URL;VALUE=URI:https://www.fumcsalisbury.org/events/mens-prayer-breakfast--8
 2/2026-05-14
ATTACH;FILENAME=Men%E2%80%99s-Breakfast.png;FMTTYPE=image/png:https://dq5pw
 pg1q8ru0.cloudfront.net/2026/04/20/16/27/13/fb942b11-17cc-4fb2-9a87-6f96db
 61902a/Men%25E2%2580%2599s-Breakfast.png
END:VEVENT
END:VCALENDAR
