BEGIN:VCALENDAR
VERSION:2.0
PRODID:icalendar-ruby
CALSCALE:GREGORIAN
METHOD:PUBLISH
BEGIN:VEVENT
DTSTAMP:20260424T070456Z
UID:5-395918@fumcsalisbury.org
DTSTART:20261004T143000Z
DTEND:20261004T153000Z
CLASS:PUBLIC
CREATED:20260423T225545
DESCRIPTION:Sunday Worship
LAST-MODIFIED:20260423T225545
LOCATION:
SUMMARY:Sunday Worship
URL;VALUE=URI:https://www.fumcsalisbury.org/events/sunday-worship/2026-10-0
 4
END:VEVENT
END:VCALENDAR
