BEGIN:VCALENDAR
VERSION:2.0
PRODID:icalendar-ruby
CALSCALE:GREGORIAN
METHOD:PUBLISH
BEGIN:VEVENT
DTSTAMP:20260424T082406Z
UID:5-395919@fumcsalisbury.org
DTSTART:20261011T143000Z
DTEND:20261011T153000Z
CLASS:PUBLIC
CREATED:20260423T225545
DESCRIPTION:Sunday Worship
LAST-MODIFIED:20260423T225545
LOCATION:
SUMMARY:Sunday Worship
URL;VALUE=URI:https://www.fumcsalisbury.org/events/sunday-worship/2026-10-1
 1
END:VEVENT
END:VCALENDAR
